BEGIN:VCALENDAR
VERSION:2.0
PRODID:-//Beyond the Call of Duty - EOW Ride - ECPv6.15.20//NONSGML v1.0//EN
CALSCALE:GREGORIAN
METHOD:PUBLISH
X-WR-CALNAME:Beyond the Call of Duty - EOW Ride
X-ORIGINAL-URL:https://endofwatchride.com
X-WR-CALDESC:Events for Beyond the Call of Duty - EOW Ride
REFRESH-INTERVAL;VALUE=DURATION:PT1H
X-Robots-Tag:noindex
X-PUBLISHED-TTL:PT1H
BEGIN:VTIMEZONE
TZID:UTC
BEGIN:STANDARD
TZOFFSETFROM:+0000
TZOFFSETTO:+0000
TZNAME:UTC
DTSTART:20220101T000000
END:STANDARD
END:VTIMEZONE
BEGIN:VEVENT
DTSTART;TZID=UTC:20230512T080000
DTEND;TZID=UTC:20230512T170000
DTSTAMP:20260421T105427
CREATED:20230511T175525Z
LAST-MODIFIED:20230511T175957Z
UID:2387-1683878400-1683910800@endofwatchride.com
SUMMARY:Pop-Up Event @ Jewelry Design Center
DESCRIPTION:Join us for a “pop-up” event at the Jewelry Design Center in Kennewick. The 2022 Memorial Trailer will be there for an opportunity to honor the 245 brave men and women who lost their lives in the line of duty in 2022.
URL:https://endofwatchride.com/event/pop-up-event-jewelry-design-center/
LOCATION:Jewelry Design Center\, 1350 N Louisiana St\, Kennewick\, WA\, 99336
ATTACH;FMTTYPE=image/jpeg:https://endofwatchride.com/wp-content/uploads/2023/05/20230426_122638-scaled.jpg
ORGANIZER;CN="Beyond the Call of Duty":MAILTO:info@eowride.com
END:VEVENT
END:VCALENDAR