BEGIN:VCALENDAR
VERSION:2.0
PRODID:-//Beyond the Call of Duty - EOW Ride - ECPv6.15.20//NONSGML v1.0//EN
CALSCALE:GREGORIAN
METHOD:PUBLISH
X-WR-CALNAME:Beyond the Call of Duty - EOW Ride
X-ORIGINAL-URL:https://endofwatchride.com
X-WR-CALDESC:Events for Beyond the Call of Duty - EOW Ride
REFRESH-INTERVAL;VALUE=DURATION:PT1H
X-Robots-Tag:noindex
X-PUBLISHED-TTL:PT1H
BEGIN:VTIMEZONE
TZID:UTC
BEGIN:STANDARD
TZOFFSETFROM:+0000
TZOFFSETTO:+0000
TZNAME:UTC
DTSTART:20220101T000000
END:STANDARD
END:VTIMEZONE
BEGIN:VEVENT
DTSTART;TZID=UTC:20230518T080000
DTEND;TZID=UTC:20230518T170000
DTSTAMP:20260421T104629
CREATED:20230517T232102Z
LAST-MODIFIED:20230517T232102Z
UID:2468-1684396800-1684429200@endofwatchride.com
SUMMARY:North American Motor Officers Association
DESCRIPTION:Come to the Sun Dome in Yakima\, WA on Thursday\, May 18th from 8am-5pm and see our rolling memorial honoring 245 fallen officers from 2022.
URL:https://endofwatchride.com/event/north-american-motor-officers-association/
LOCATION:Sun Dome\, 1301 South Fair Avenue\, Yakima\, WA\, 98901\, United States
ATTACH;FMTTYPE=image/jpeg:https://endofwatchride.com/wp-content/uploads/2023/05/TVA-77514_JPEG_TVA-77514.jpg
END:VEVENT
END:VCALENDAR