BEGIN:VCALENDAR
VERSION:2.0
PRODID:-//Beyond the Call of Duty - EOW Ride - ECPv6.15.20//NONSGML v1.0//EN
CALSCALE:GREGORIAN
METHOD:PUBLISH
X-WR-CALNAME:Beyond the Call of Duty - EOW Ride
X-ORIGINAL-URL:https://endofwatchride.com
X-WR-CALDESC:Events for Beyond the Call of Duty - EOW Ride
REFRESH-INTERVAL;VALUE=DURATION:PT1H
X-Robots-Tag:noindex
X-PUBLISHED-TTL:PT1H
BEGIN:VTIMEZONE
TZID:UTC
BEGIN:STANDARD
TZOFFSETFROM:+0000
TZOFFSETTO:+0000
TZNAME:UTC
DTSTART:20220101T000000
END:STANDARD
END:VTIMEZONE
BEGIN:VEVENT
DTSTART;TZID=UTC:20230520T080000
DTEND;TZID=UTC:20230521T170000
DTSTAMP:20260421T104629
CREATED:20230428T202648Z
LAST-MODIFIED:20230518T231231Z
UID:1982-1684569600-1684688400@endofwatchride.com
SUMMARY:50th Annual Monroe Auto Swap Meet
DESCRIPTION:Join us at the Monroe Auto Swap Meet\, and have a chance to see the 2020 Harley-Davidson Pan America bike we’ll be raffling off in September. \nLots of cars\, and more… Everyone is sure to find something to enjoy! \nEvergreen State Fairgrounds Saturday\, May 20th – 8a – 5p and Sunday\, May 21st 8a – 2p. \nWe hope to see you there!
URL:https://endofwatchride.com/event/50th-annual-monroe-auto-swap-meet/
LOCATION:Evergreen State Fairgrounds\, 14405 179th Ave SE\, Monroe\, WA\, 98272
ATTACH;FMTTYPE=image/png:https://endofwatchride.com/wp-content/uploads/2023/04/Auto-Swap-Meet-200x300-1.png
END:VEVENT
END:VCALENDAR