BEGIN:VCALENDAR
VERSION:2.0
PRODID:-//Beyond the Call of Duty - EOW Ride - ECPv6.15.20//NONSGML v1.0//EN
CALSCALE:GREGORIAN
METHOD:PUBLISH
X-WR-CALNAME:Beyond the Call of Duty - EOW Ride
X-ORIGINAL-URL:https://endofwatchride.com
X-WR-CALDESC:Events for Beyond the Call of Duty - EOW Ride
REFRESH-INTERVAL;VALUE=DURATION:PT1H
X-Robots-Tag:noindex
X-PUBLISHED-TTL:PT1H
BEGIN:VTIMEZONE
TZID:UTC
BEGIN:STANDARD
TZOFFSETFROM:+0000
TZOFFSETTO:+0000
TZNAME:UTC
DTSTART:20250101T000000
END:STANDARD
END:VTIMEZONE
BEGIN:VEVENT
DTSTART;TZID=UTC:20260403T110000
DTEND;TZID=UTC:20260919T180000
DTSTAMP:20260420T062505
CREATED:20260403T215307Z
LAST-MODIFIED:20260403T215307Z
UID:5548-1775214000-1789840800@endofwatchride.com
SUMMARY:2026 Raffle Live Drawing Event
DESCRIPTION:Our 2026 Raffle is in full swing and tickets are selling fast! \nOur Live Drawing Event will be Saturday\, September 19\, 2026 with music\, food and fun for the whole family\, and of course\, the main attraction: the drawing for a beautiful Anniversary Edition Harley Davidson 2003 Dyna Wide-Glide motorcycle used\, in great condition\, with just 17\,778~ miles on it. \nThere will be something for everyone\, so even if you don’t buy raffle tickets\, you’re still guaranteed to have a great time! \n \nIf you want to purchase tickets\, reach out to: info@eowride.com.
URL:https://endofwatchride.com/event/2026-raffle-live-drawing-event/
LOCATION:Lone Wolf Harley-Davidson\, 19011 E Cataldo Ave\, Spokane Valley\, WA\, 99016\, United States
END:VEVENT
END:VCALENDAR