BEGIN:VCALENDAR
VERSION:2.0
PRODID:-//Beyond the Call of Duty - EOW Ride - ECPv6.15.20//NONSGML v1.0//EN
CALSCALE:GREGORIAN
METHOD:PUBLISH
X-WR-CALNAME:Beyond the Call of Duty - EOW Ride
X-ORIGINAL-URL:https://endofwatchride.com
X-WR-CALDESC:Events for Beyond the Call of Duty - EOW Ride
REFRESH-INTERVAL;VALUE=DURATION:PT1H
X-Robots-Tag:noindex
X-PUBLISHED-TTL:PT1H
BEGIN:VTIMEZONE
TZID:UTC
BEGIN:STANDARD
TZOFFSETFROM:+0000
TZOFFSETTO:+0000
TZNAME:UTC
DTSTART:20220101T000000
END:STANDARD
END:VTIMEZONE
BEGIN:VEVENT
DTSTART;TZID=UTC:20230512T080000
DTEND;TZID=UTC:20230512T170000
DTSTAMP:20260421T160808
CREATED:20230511T175525Z
LAST-MODIFIED:20230511T175957Z
UID:2387-1683878400-1683910800@endofwatchride.com
SUMMARY:Pop-Up Event @ Jewelry Design Center
DESCRIPTION:Join us for a “pop-up” event at the Jewelry Design Center in Kennewick. The 2022 Memorial Trailer will be there for an opportunity to honor the 245 brave men and women who lost their lives in the line of duty in 2022.
URL:https://endofwatchride.com/event/pop-up-event-jewelry-design-center/
LOCATION:Jewelry Design Center\, 1350 N Louisiana St\, Kennewick\, WA\, 99336
ATTACH;FMTTYPE=image/jpeg:https://endofwatchride.com/wp-content/uploads/2023/05/20230426_122638-scaled.jpg
ORGANIZER;CN="Beyond the Call of Duty":MAILTO:info@eowride.com
END:VEVENT
BEGIN:VEVENT
DTSTART;TZID=UTC:20230507T130000
DTEND;TZID=UTC:20230507T170000
DTSTAMP:20260421T160808
CREATED:20230428T200100Z
LAST-MODIFIED:20230428T201534Z
UID:1975-1683464400-1683478800@endofwatchride.com
SUMMARY:Klickitat County Sheriff's Office Law Enforcement & Corrections Rolling Memorial
DESCRIPTION:In Honor of Correctional Officer’s Week May 7-13\,2023 and Law Enforcement Week May 14-20\, 2023 Klickitat County Sheriff Bob Songer will be welcoming the End of Watch Ride to Remember\, a Rolling Memorial for fallen officers. \nThe Rolling Memorial will be arriving Sunday May 7th at 1pm in the East Parking lot of the Klickitat County Courthouse in Goldendale WA. The Memorial will be escorted by Local Law Enforcement and Ride to Remember Riders on Harley Davidson Motorcycles. \nMembers of the Goldendale American Legion will provide an Honor Guard\, including a Rifle Squad\, concluding with a live version of Taps. \nBring the whole family out to show your support and appreciation for our heroes.
URL:https://endofwatchride.com/event/klickitat-county-sheriffs-office-law-enforcement-corrections-rolling-memorial/
LOCATION:Klickitat County Courthouse Parking Lot\, 205 S Columbus Avenue\, Goldendale\, WA\, 98620
END:VEVENT
BEGIN:VEVENT
DTSTART;TZID=UTC:20230506T110000
DTEND;TZID=UTC:20230506T160000
DTSTAMP:20260421T160808
CREATED:20230428T192626Z
LAST-MODIFIED:20230428T202432Z
UID:1967-1683370800-1683388800@endofwatchride.com
SUMMARY:Lone Wolf Harley-Davidson Meet the Clydesdales Event
DESCRIPTION:We look forward to ‘Horsing” around with you!!!!! Saturday May 6th from 11-4pm at Lone Wolf Harley-Davidson have fun Meeting the Clydesdales here at the Dealership & Watch the Kentucky Derby by live stream\nSome great friends Michelle Hembach & guest appearances with The FRIENDS of C.O.P.S. Mounted Patrol Unit\, & Beyond the Call of Duty. Food from Patty’s Tacos Ramirez\, Come join us for some fun Games\, and enter the little ones in a coloring contest!! its going to be a blast
URL:https://endofwatchride.com/event/meet-the-clydesdales-cops-event/
LOCATION:Lone Wolf Harley-Davidson\, 19011 E Cataldo Ave\, Spokane Valley\, WA\, 99016\, United States
END:VEVENT
BEGIN:VEVENT
DTSTART;TZID=UTC:20230428T113000
DTEND;TZID=UTC:20230428T130000
DTSTAMP:20260421T160808
CREATED:20230428T191335Z
LAST-MODIFIED:20230428T192126Z
UID:1963-1682681400-1682686800@endofwatchride.com
SUMMARY:35th Annual Law Enforcement Memorial Project
DESCRIPTION:  \n \nJoin us at the Spokane County Public Safety Building on May 2nd for the dedication of law enforcement officers to the memorial. This will be the first \nouting of the 2022 Memorial Trailer and our own JC Shah will be the special guest speaker for the event! \nWe’d love to see you there.
URL:https://endofwatchride.com/event/35th-annual-law-enforcement-memorial-project/
LOCATION:Spokane County Public Safety Building
END:VEVENT
END:VCALENDAR