BEGIN:VCALENDAR
VERSION:2.0
PRODID:-//Beyond the Call of Duty - EOW Ride - ECPv6.15.20//NONSGML v1.0//EN
CALSCALE:GREGORIAN
METHOD:PUBLISH
X-ORIGINAL-URL:https://endofwatchride.com
X-WR-CALDESC:Events for Beyond the Call of Duty - EOW Ride
REFRESH-INTERVAL;VALUE=DURATION:PT1H
X-Robots-Tag:noindex
X-PUBLISHED-TTL:PT1H
BEGIN:VTIMEZONE
TZID:UTC
BEGIN:STANDARD
TZOFFSETFROM:+0000
TZOFFSETTO:+0000
TZNAME:UTC
DTSTART:20220101T000000
END:STANDARD
END:VTIMEZONE
BEGIN:VEVENT
DTSTART;TZID=UTC:20231026T120000
DTEND;TZID=UTC:20231026T200000
DTSTAMP:20260420T062557
CREATED:20231025T175954Z
LAST-MODIFIED:20231025T175954Z
UID:2826-1698321600-1698350400@endofwatchride.com
SUMMARY:Fundraiser for Fallen Post Falls Officer McDaniel
DESCRIPTION:Join Beyond Call of Duty on Thursday\, October 26\, 2023 from 12pm-8pm at New York Pizza Dept located at 4380 W River Bend Ave Post Falls ID for a fundraiser for fallen Post Falls Police Officer Nicholas McDaniel and his family. Come out and show your support for this hero. 20% of all food sales will go to the family and 100% of all beer sales will go to Officer McDaniel’s family. We look forward to seeing each of you there!
URL:https://endofwatchride.com/event/fundraiser-for-fallen-post-falls-officer-mcdaniel/
LOCATION:New York Pizza Depot\, 4380 W River Bend Ave\, Post Falls\, ID\, United States
ATTACH;FMTTYPE=image/jpeg:https://endofwatchride.com/wp-content/uploads/2023/10/Post-Falls2.jpg
END:VEVENT
BEGIN:VEVENT
DTSTART;TZID=UTC:20230916T100000
DTEND;TZID=UTC:20230916T180000
DTSTAMP:20260420T062557
CREATED:20230428T205319Z
LAST-MODIFIED:20230906T205901Z
UID:1990-1694858400-1694887200@endofwatchride.com
SUMMARY:Lone Wolf Harley-Davidson 2020  Pan America Raffle Event
DESCRIPTION:Join us for a LIVE drawing event for this beautiful motorcycle! This 2020 Pan America motorcycle is in “like new” condition with less than 200 miles on it. \nThe drawing will be held at 5p on September 16th at Lone Wolf Harley-Davidson. \nThe 2022 Rolling Memorial and team will be there and we’ll have lots of fun in store for everyone! \nIf you haven’t already\, be sure to get your tickets by emailing: info@eowride.com or stopping by Lone Wolf Harley-Davidson located at 19011 E Cataldo Ave\, Spokane Valley\, WA 99016 \nSee you there!
URL:https://endofwatchride.com/event/lone-wolf-harley-davidson-2020-pan-america-raffle-event/
LOCATION:Lone Wolf Harley-Davidson\, 19011 E Cataldo Ave\, Spokane Valley\, WA\, 99016\, United States
ATTACH;FMTTYPE=image/jpeg:https://endofwatchride.com/wp-content/uploads/2023/04/Lone-Wolf.jpg
END:VEVENT
BEGIN:VEVENT
DTSTART;TZID=UTC:20230909T100000
DTEND;TZID=UTC:20230909T150000
DTSTAMP:20260420T062557
CREATED:20230819T190226Z
LAST-MODIFIED:20230819T190226Z
UID:2728-1694253600-1694271600@endofwatchride.com
SUMMARY:First Responders Club 3rd Annual 9/11 Event
DESCRIPTION:Join us Saturday\, September 9th for a Memorial to the Fallen from 10am – 3pm. Organized by our friends at the First Responders Club\, there will be special guests\, demonstrations\, and more. \nLocation: 7217 W. Westbow Blvd. Spokane\, WA 99224
URL:https://endofwatchride.com/event/first-responders-club-3rd-annual-9-11-event/
LOCATION:First Responders Club\, 7217 W. Westbow Blvd.\, Spokane\, WA\, 99224\, United States
ATTACH;FMTTYPE=image/jpeg:https://endofwatchride.com/wp-content/uploads/2023/08/1st-Reponders-Club-scaled.jpg
END:VEVENT
BEGIN:VEVENT
DTSTART;TZID=UTC:20230817T080000
DTEND;TZID=UTC:20230820T220000
DTSTAMP:20260420T062557
CREATED:20230817T170648Z
LAST-MODIFIED:20230817T181157Z
UID:2721-1692259200-1692568800@endofwatchride.com
SUMMARY:Klickitat County Fair & Rodeo
DESCRIPTION:Come out to the Klickitat County Fair & Rodeo starting today\, August 17th and through the weekend.  We’ll be there with the 2022 Memorial trailer and the 2020 Pan America motorcycle we’ll be raffling off on September 16th. \nThis is a great chance to have some fun for the whole family\, visit the EOW Memorial AND get your raffle tickets! \nFor more information about the Fair & Rodeo\, visit their website https://www.klickitatcountyfair.com/. \n 
URL:https://endofwatchride.com/event/klickitat-county-fair-rodeo/
LOCATION:WA
ATTACH;FMTTYPE=image/jpeg:https://endofwatchride.com/wp-content/uploads/2023/08/KlickitatBXO1.jpg
END:VEVENT
BEGIN:VEVENT
DTSTART;TZID=UTC:20230803T170000
DTEND;TZID=UTC:20230805T233000
DTSTAMP:20260420T062557
CREATED:20230629T231436Z
LAST-MODIFIED:20230713T215640Z
UID:2611-1691082000-1691278200@endofwatchride.com
SUMMARY:Moxee Hop Festival
DESCRIPTION:Join Beyond the Call at the annual Moxee Hop Festival! Come out and see the 2021 rolling memorial with 608 fallen officers from across the country. Enjoy the live music\, food vendors\, meet the royalty\, and much more. \nThe festival runs over three days so plan ahead and come join the fun! \n\n     Thursday\, 8/3/23: 5:00pm – 9:00pm\n     Friday\, 8/4/23:  4:00pm – Midnight\n     Saturday\, 8/5/23: 7:00am – Midnight\n\nVisit the Moxee Hop Festival website for more details & information: https://www.evcea.org/moxee-hop-festival \n 
URL:https://endofwatchride.com/event/moxee-hop-festival/
LOCATION:Moxee Hop Festival\, S Rivard Rd & State Route 24\, Moxee\, WA\, 98936\, United States
ATTACH;FMTTYPE=image/webp:https://endofwatchride.com/wp-content/uploads/2023/06/Moxee-1.webp
END:VEVENT
BEGIN:VEVENT
DTSTART;TZID=UTC:20230728T100000
DTEND;TZID=UTC:20230730T170000
DTSTAMP:20260420T062557
CREATED:20230619T192121Z
LAST-MODIFIED:20230713T200235Z
UID:2561-1690538400-1690736400@endofwatchride.com
SUMMARY:2023 Water Follies Columbia Cup & STCU Over the River Air Show
DESCRIPTION:Join Beyond the Call of Duty and the End of Watch Ride Memorial Trailer at the Tri-City Water Follies at the Columbia Cup and STCU Over the River Air Show. This year\, they will welcome the 2.5 Litre Stock hydroplanes (“S” class) to its lineup of exciting boat racing on the Columbia River on July 28 – 30\, 2023. \nFor more information\, or to purchase tickets\, visit their website HERE. \nHope to see you there!
URL:https://endofwatchride.com/event/2023-water-follies-columbia-cup-stcu-over-the-river-air-show/
LOCATION:2023 Water Follies Columbia Cup & STCU Over the River Air Show\, Highway 240 & Columbia River\, Kennewick\, WA\, 99336\, United States
ATTACH;FMTTYPE=image/jpeg:https://endofwatchride.com/wp-content/uploads/2023/06/Columbia-Event.jpg
END:VEVENT
BEGIN:VEVENT
DTSTART;TZID=UTC:20230715T110000
DTEND;TZID=UTC:20230715T163000
DTSTAMP:20260420T062557
CREATED:20230714T204835Z
LAST-MODIFIED:20230714T204835Z
UID:2656-1689418800-1689438600@endofwatchride.com
SUMMARY:Beyond the Call of Duty - Pop-up Event at Yoke's Fresh Market
DESCRIPTION:Join us on Saturday\, July 15th from 11am-4:30pm for a pop-up event at Yoke’s Fresh Market in Sandpoint\, ID.  Don’t miss your chance to get your raffle ticket for the 2020 Harley-Davidson Pan America.  Hope to you see you there. \nYoke’s Fresh Market – 212 Bonner Mall Way\, Sandpoint\, ID
URL:https://endofwatchride.com/event/beyond-the-call-of-duty-pop-up-event-at-yokes-fresh-market/
LOCATION:Yokes Fresh Market – Sandpoint\, ID\, 212 Bonner Mall Way\, Sandpoint\, ID\, United States
ATTACH;FMTTYPE=image/png:https://endofwatchride.com/wp-content/uploads/2023/07/Yokes-Fresh-Market-Gold-Sponsor.png
END:VEVENT
BEGIN:VEVENT
DTSTART;TZID=UTC:20230715T080000
DTEND;TZID=UTC:20230715T170000
DTSTAMP:20260420T062557
CREATED:20230617T001931Z
LAST-MODIFIED:20230617T001931Z
UID:2551-1689408000-1689440400@endofwatchride.com
SUMMARY:Three Angels Poker Run
DESCRIPTION:Poker Ride to benefit Beyond the Call and other non-profits.
URL:https://endofwatchride.com/event/three-angels-poker-run/
LOCATION:WA
ATTACH;FMTTYPE=image/jpeg:https://endofwatchride.com/wp-content/uploads/2023/06/Poker.jpg
END:VEVENT
BEGIN:VEVENT
DTSTART;TZID=UTC:20230629T150000
DTEND;TZID=UTC:20230629T200000
DTSTAMP:20260420T062557
CREATED:20230627T170550Z
LAST-MODIFIED:20230627T224753Z
UID:2585-1688050800-1688068800@endofwatchride.com
SUMMARY:Whitewall Brewing Company Event
DESCRIPTION:Thursday\, June 29th\, 2023  from 3pm to 8pm we will be at Whitewall Brewing Company.  Come out and see the 2022 Rolling Memorial with the 245 fallen officers.  We’ll also have the 2020 Harley-Davidson Pan America we’ll be raffling off in September (be sure to get your raffle ticket for a chance to win this wonderful bike).  We will also have a commemorative motorcycle honoring Officer Charlie Cortez. We look forward to seeing you there!
URL:https://endofwatchride.com/event/whitewall-brewing-company-event/
LOCATION:Whitewall Brewing\, 14524 Smokey Point Blvd\, Marysville\, WA\, 98271\, United States
ATTACH;FMTTYPE=image/jpeg:https://endofwatchride.com/wp-content/uploads/2023/06/Whitewall-Brewing.jpg
END:VEVENT
BEGIN:VEVENT
DTSTART;TZID=UTC:20230624T110000
DTEND;TZID=UTC:20230624T140000
DTSTAMP:20260420T062557
CREATED:20230620T194015Z
LAST-MODIFIED:20230620T234653Z
UID:2579-1687604400-1687615200@endofwatchride.com
SUMMARY:FAN-FEST PARTY @ SUPER DIRT CUP
DESCRIPTION:Join us on the final day of the 51st Annual Jim Raper Memorial Super Dirt Cup for the Fan-Fest Party! This will take place near the entry gates from 11:00am-2:00pm.\n\nCome and see the Rolling Memorial honoring the 245 fallen officers from 2022. Meet the Beyond the Call team and get a ticket for your chance to win the 2020 Harley-Davidson Pan America.\n\nThere will be cars\, drivers\, music and apparel. We will also have the Skagit Quarter Midget Club selling hot dogs as a fundraiser for the club.
URL:https://endofwatchride.com/event/fan-fest-party-super-dirt-cup/
LOCATION:Skagit Speedway\, 4796 Old Highway 99 North Rd\, Alger\, WA\, 98233-6820\, United States
ATTACH;FMTTYPE=image/jpeg:https://endofwatchride.com/wp-content/uploads/2023/06/Fun-Fest.jpg
END:VEVENT
BEGIN:VEVENT
DTSTART;TZID=UTC:20230624T080000
DTEND;TZID=UTC:20230624T170000
DTSTAMP:20260420T062557
CREATED:20230619T204345Z
LAST-MODIFIED:20230619T204638Z
UID:2568-1687593600-1687626000@endofwatchride.com
SUMMARY:Deputy Saul Gallegos Memorial Run
DESCRIPTION:JOIN US SATURDAY 06/24/23 for the Deputy Saul Gallegos Memorial Run \n8:00AM in Singleton Park for a 3k/5k run in honor of Deputy Saul Gallegos. We will have the End of Watch ride motorcycle dedicated to Deputy Gallegos on hand as we honor our fallen hero. \nIf you want to register to join the run\, the deadline is JUNE 19th at 5pm. Click HERE for more info or to register. \nC.O.P.S. (Concerns of Police Survivors) providing free brunch following the race \n​Everyone is welcome to join us!
URL:https://endofwatchride.com/event/2568/
LOCATION:Singleton Park\, 300 S Madeline Rd\,\, Manson\, WA\, United States
ATTACH;FMTTYPE=image/png:https://endofwatchride.com/wp-content/uploads/2023/06/gallegos-memorial-run.png
END:VEVENT
BEGIN:VEVENT
DTSTART;TZID=UTC:20230624T060000
DTEND;TZID=UTC:20230624T130000
DTSTAMP:20260420T062557
CREATED:20230511T181524Z
LAST-MODIFIED:20230620T194123Z
UID:2394-1687586400-1687611600@endofwatchride.com
SUMMARY:Michael D's - Hangin' With the Breakfast Crowd
DESCRIPTION:JC and others from the EOW team will be at Michael D’s in Coeur d’Alene hanging \n \nwith the breakfast crowd. Come and join us for a delicious breakfast\, spend some time with the 2021 Memorial and meet some of the team who have been on the rides the last 3 years. You’ll also have an opportunity to purchase EOW Merchandise and RAFFLE TICKETS for the 2020 Harley-Davidson Pan America motorcycle! \nWe look forward to seeing you there!
URL:https://endofwatchride.com/event/michael-ds-hangin-with-the-breakfast-crowd/
LOCATION:Michael D’s Eatery\, 203 Coeur Dalene Lake Dr\, Coeur D'Alene\, ID\, 83814
ATTACH;FMTTYPE=image/jpeg:https://endofwatchride.com/wp-content/uploads/2023/05/MichaelDsEatery.jpg
END:VEVENT
BEGIN:VEVENT
DTSTART;TZID=UTC:20230623T163000
DTEND;TZID=UTC:20230623T193000
DTSTAMP:20260420T062557
CREATED:20230602T163000Z
LAST-MODIFIED:20230620T165305Z
UID:2527-1687537800-1687548600@endofwatchride.com
SUMMARY:Friday Night Bike Event - Lone Wolf Harley-Davidson
DESCRIPTION:Join us Friday\, June 23rd at Lone Wolf Harley-Davidson  for a bike event with all proceeds going to Beyond the Call of Duty – End of Watch
URL:https://endofwatchride.com/event/friday-night-bike-event-lone-wolf-harley-davidson/
LOCATION:Lone Wolf Harley-Davidson\, 19011 E Cataldo Ave\, Spokane Valley\, WA\, 99016\, United States
ATTACH;FMTTYPE=image/jpeg:https://endofwatchride.com/wp-content/uploads/2023/06/Lone-Wolf-Copy.jpg
END:VEVENT
BEGIN:VEVENT
DTSTART;TZID=UTC:20230617T090000
DTEND;TZID=UTC:20230617T160000
DTSTAMP:20260420T062557
CREATED:20230607T163212Z
LAST-MODIFIED:20230619T192557Z
UID:2539-1686992400-1687017600@endofwatchride.com
SUMMARY:Sheriff Adam Fortney Car Show
DESCRIPTION:Join us June 17th for the Re-Elect Sheriff Adam Fortney Car Show. \nSee our 2022 rolling Memorial honoring the 245 fallen law enforcement officers from last year. \nWe’ll also have the 2020 Harley-Davidson Pan America we are raffling off and if you haven’t yet\, you can purchase tickets to get your chance to win this beautiful (almost new) bike. \nCome say hello to our team and enjoy the car show!
URL:https://endofwatchride.com/event/sheriff-adam-fortney-car-show/
LOCATION:Sheriff A. Fortney Car Show\, 17212 51st Ave. NE\, Arlington\, WA\, United States
ATTACH;FMTTYPE=image/jpeg:https://endofwatchride.com/wp-content/uploads/2023/06/Car-show-fundraiser1024_1.jpg
END:VEVENT
BEGIN:VEVENT
DTSTART;VALUE=DATE:20230526
DTEND;VALUE=DATE:20230529
DTSTAMP:20260420T062557
CREATED:20230428T194113Z
LAST-MODIFIED:20230428T200019Z
UID:1971-1685059200-1685318399@endofwatchride.com
SUMMARY:Sunland Estates Memorial Day Weekend Event
DESCRIPTION:We’ll be hosting a Memorial Day Weekend event at the beautiful Sunland Estates in Quincy\, WA. The 2022 Memorial will be there\, and we’ll have music\, food and fun! Join us!
URL:https://endofwatchride.com/event/sunland-estates-memorial-day-weekend-event/
LOCATION:Sunland Estates\, Quincy\, WA
END:VEVENT
BEGIN:VEVENT
DTSTART;TZID=UTC:20230520T080000
DTEND;TZID=UTC:20230521T170000
DTSTAMP:20260420T062557
CREATED:20230428T202648Z
LAST-MODIFIED:20230518T231231Z
UID:1982-1684569600-1684688400@endofwatchride.com
SUMMARY:50th Annual Monroe Auto Swap Meet
DESCRIPTION:Join us at the Monroe Auto Swap Meet\, and have a chance to see the 2020 Harley-Davidson Pan America bike we’ll be raffling off in September. \nLots of cars\, and more… Everyone is sure to find something to enjoy! \nEvergreen State Fairgrounds Saturday\, May 20th – 8a – 5p and Sunday\, May 21st 8a – 2p. \nWe hope to see you there!
URL:https://endofwatchride.com/event/50th-annual-monroe-auto-swap-meet/
LOCATION:Evergreen State Fairgrounds\, 14405 179th Ave SE\, Monroe\, WA\, 98272
ATTACH;FMTTYPE=image/png:https://endofwatchride.com/wp-content/uploads/2023/04/Auto-Swap-Meet-200x300-1.png
END:VEVENT
BEGIN:VEVENT
DTSTART;TZID=UTC:20230519T090000
DTEND;TZID=UTC:20230519T190000
DTSTAMP:20260420T062557
CREATED:20230517T170407Z
LAST-MODIFIED:20230517T175335Z
UID:2464-1684486800-1684522800@endofwatchride.com
SUMMARY:Bud Clary - Toyota of Yakima
DESCRIPTION:Join us Friday\, May 19th from 9am – 7pm at Bud Clary (Toyota of Yakima).  See our rolling memorial honoring the 245 fallen officers from 2022 and buy a raffle ticket for your chance to win a 2020 Harley-Davidson Pan America.
URL:https://endofwatchride.com/event/bud-clary-toyota-of-yakima/
LOCATION:Bud Clary Toyota of Yakima\, 2230 Longfibre Rd\, Union Gap\, WA\, 98903\, United States
ATTACH;FMTTYPE=image/jpeg:https://endofwatchride.com/wp-content/uploads/2023/05/Bud-Clary-Toyota.jpg
END:VEVENT
BEGIN:VEVENT
DTSTART;TZID=UTC:20230518T080000
DTEND;TZID=UTC:20230518T170000
DTSTAMP:20260420T062557
CREATED:20230517T232102Z
LAST-MODIFIED:20230517T232102Z
UID:2468-1684396800-1684429200@endofwatchride.com
SUMMARY:North American Motor Officers Association
DESCRIPTION:Come to the Sun Dome in Yakima\, WA on Thursday\, May 18th from 8am-5pm and see our rolling memorial honoring 245 fallen officers from 2022.
URL:https://endofwatchride.com/event/north-american-motor-officers-association/
LOCATION:Sun Dome\, 1301 South Fair Avenue\, Yakima\, WA\, 98901\, United States
ATTACH;FMTTYPE=image/jpeg:https://endofwatchride.com/wp-content/uploads/2023/05/TVA-77514_JPEG_TVA-77514.jpg
END:VEVENT
BEGIN:VEVENT
DTSTART;TZID=UTC:20230512T080000
DTEND;TZID=UTC:20230512T170000
DTSTAMP:20260420T062557
CREATED:20230511T175525Z
LAST-MODIFIED:20230511T175957Z
UID:2387-1683878400-1683910800@endofwatchride.com
SUMMARY:Pop-Up Event @ Jewelry Design Center
DESCRIPTION:Join us for a “pop-up” event at the Jewelry Design Center in Kennewick. The 2022 Memorial Trailer will be there for an opportunity to honor the 245 brave men and women who lost their lives in the line of duty in 2022.
URL:https://endofwatchride.com/event/pop-up-event-jewelry-design-center/
LOCATION:Jewelry Design Center\, 1350 N Louisiana St\, Kennewick\, WA\, 99336
ATTACH;FMTTYPE=image/jpeg:https://endofwatchride.com/wp-content/uploads/2023/05/20230426_122638-scaled.jpg
ORGANIZER;CN="Beyond the Call of Duty":MAILTO:info@eowride.com
END:VEVENT
BEGIN:VEVENT
DTSTART;TZID=UTC:20230507T130000
DTEND;TZID=UTC:20230507T170000
DTSTAMP:20260420T062557
CREATED:20230428T200100Z
LAST-MODIFIED:20230428T201534Z
UID:1975-1683464400-1683478800@endofwatchride.com
SUMMARY:Klickitat County Sheriff's Office Law Enforcement & Corrections Rolling Memorial
DESCRIPTION:In Honor of Correctional Officer’s Week May 7-13\,2023 and Law Enforcement Week May 14-20\, 2023 Klickitat County Sheriff Bob Songer will be welcoming the End of Watch Ride to Remember\, a Rolling Memorial for fallen officers. \nThe Rolling Memorial will be arriving Sunday May 7th at 1pm in the East Parking lot of the Klickitat County Courthouse in Goldendale WA. The Memorial will be escorted by Local Law Enforcement and Ride to Remember Riders on Harley Davidson Motorcycles. \nMembers of the Goldendale American Legion will provide an Honor Guard\, including a Rifle Squad\, concluding with a live version of Taps. \nBring the whole family out to show your support and appreciation for our heroes.
URL:https://endofwatchride.com/event/klickitat-county-sheriffs-office-law-enforcement-corrections-rolling-memorial/
LOCATION:Klickitat County Courthouse Parking Lot\, 205 S Columbus Avenue\, Goldendale\, WA\, 98620
END:VEVENT
BEGIN:VEVENT
DTSTART;TZID=UTC:20230506T110000
DTEND;TZID=UTC:20230506T160000
DTSTAMP:20260420T062557
CREATED:20230428T192626Z
LAST-MODIFIED:20230428T202432Z
UID:1967-1683370800-1683388800@endofwatchride.com
SUMMARY:Lone Wolf Harley-Davidson Meet the Clydesdales Event
DESCRIPTION:We look forward to ‘Horsing” around with you!!!!! Saturday May 6th from 11-4pm at Lone Wolf Harley-Davidson have fun Meeting the Clydesdales here at the Dealership & Watch the Kentucky Derby by live stream\nSome great friends Michelle Hembach & guest appearances with The FRIENDS of C.O.P.S. Mounted Patrol Unit\, & Beyond the Call of Duty. Food from Patty’s Tacos Ramirez\, Come join us for some fun Games\, and enter the little ones in a coloring contest!! its going to be a blast
URL:https://endofwatchride.com/event/meet-the-clydesdales-cops-event/
LOCATION:Lone Wolf Harley-Davidson\, 19011 E Cataldo Ave\, Spokane Valley\, WA\, 99016\, United States
END:VEVENT
BEGIN:VEVENT
DTSTART;TZID=UTC:20230428T113000
DTEND;TZID=UTC:20230428T130000
DTSTAMP:20260420T062557
CREATED:20230428T191335Z
LAST-MODIFIED:20230428T192126Z
UID:1963-1682681400-1682686800@endofwatchride.com
SUMMARY:35th Annual Law Enforcement Memorial Project
DESCRIPTION:  \n \nJoin us at the Spokane County Public Safety Building on May 2nd for the dedication of law enforcement officers to the memorial. This will be the first \nouting of the 2022 Memorial Trailer and our own JC Shah will be the special guest speaker for the event! \nWe’d love to see you there.
URL:https://endofwatchride.com/event/35th-annual-law-enforcement-memorial-project/
LOCATION:Spokane County Public Safety Building
END:VEVENT
END:VCALENDAR