BEGIN:VCALENDAR
VERSION:2.0
PRODID:-//Beyond the Call of Duty - EOW Ride - ECPv6.15.20//NONSGML v1.0//EN
CALSCALE:GREGORIAN
METHOD:PUBLISH
X-ORIGINAL-URL:https://endofwatchride.com
X-WR-CALDESC:Events for Beyond the Call of Duty - EOW Ride
REFRESH-INTERVAL;VALUE=DURATION:PT1H
X-Robots-Tag:noindex
X-PUBLISHED-TTL:PT1H
BEGIN:VTIMEZONE
TZID:UTC
BEGIN:STANDARD
TZOFFSETFROM:+0000
TZOFFSETTO:+0000
TZNAME:UTC
DTSTART:20230101T000000
END:STANDARD
END:VTIMEZONE
BEGIN:VTIMEZONE
TZID:America/Los_Angeles
BEGIN:DAYLIGHT
TZOFFSETFROM:-0800
TZOFFSETTO:-0700
TZNAME:PDT
DTSTART:20230312T100000
END:DAYLIGHT
BEGIN:STANDARD
TZOFFSETFROM:-0700
TZOFFSETTO:-0800
TZNAME:PST
DTSTART:20231105T090000
END:STANDARD
BEGIN:DAYLIGHT
TZOFFSETFROM:-0800
TZOFFSETTO:-0700
TZNAME:PDT
DTSTART:20240310T100000
END:DAYLIGHT
BEGIN:STANDARD
TZOFFSETFROM:-0700
TZOFFSETTO:-0800
TZNAME:PST
DTSTART:20241103T090000
END:STANDARD
BEGIN:DAYLIGHT
TZOFFSETFROM:-0800
TZOFFSETTO:-0700
TZNAME:PDT
DTSTART:20250309T100000
END:DAYLIGHT
BEGIN:STANDARD
TZOFFSETFROM:-0700
TZOFFSETTO:-0800
TZNAME:PST
DTSTART:20251102T090000
END:STANDARD
END:VTIMEZONE
BEGIN:VEVENT
DTSTART;TZID=UTC:20240601T070000
DTEND;TZID=UTC:20240601T080000
DTSTAMP:20260421T160345
CREATED:20240509T185146Z
LAST-MODIFIED:20240509T185146Z
UID:3755-1717225200-1717228800@endofwatchride.com
SUMMARY:End of Watch Ride Send Off
DESCRIPTION:Join us at Lone Wolf Harley Davidson as we send off our riders and the 2022/2023 Memorial on their journey across the country. \nShow your support for our awesome riders and the Beyond the Call of Duty cause and help us send them off with lots of love!
URL:https://endofwatchride.com/event/end-of-watch-ride-send-off/
LOCATION:Lone Wolf Harley-Davidson\, 19011 E Cataldo Ave\, Spokane Valley\, WA\, 99016\, United States
END:VEVENT
BEGIN:VEVENT
DTSTART;TZID=UTC:20240921T110000
DTEND;TZID=UTC:20240921T180000
DTSTAMP:20260421T160345
CREATED:20240301T195520Z
LAST-MODIFIED:20240917T170600Z
UID:3048-1726916400-1726941600@endofwatchride.com
SUMMARY:2024 Lone-Wolf Harley - Pan America Live Drawing Event
DESCRIPTION:Join us for this FREE wrap-up event of the End of Watch Ride\, and a fun afternoon leading up to the drawing of the winning raffle ticket for a beautiful 2021 Pan American Harley Davidson motorcycle. This motorcycle is “used” in like-new condition with less than 100 miles on it. \nEvent is FREE!!! \nRaffle Tickets will be available soon! Please email info@eowride.org for more information. \nThis is always a fun time\, with lots going on.  Make plans now to join us!
URL:https://endofwatchride.com/event/live-raffle-drawing/
LOCATION:Lone Wolf Harley-Davidson\, 19011 E Cataldo Ave\, Spokane Valley\, WA\, 99016\, United States
ATTACH;FMTTYPE=image/png:https://endofwatchride.com/wp-content/uploads/2024/03/2024-Motorcycle-Raffle-Flyer-3.png
END:VEVENT
BEGIN:VEVENT
DTSTART;TZID=America/Los_Angeles:20240922T100000
DTEND;TZID=America/Los_Angeles:20240922T140000
DTSTAMP:20260421T160345
CREATED:20240909T182644Z
LAST-MODIFIED:20240909T182644Z
UID:4490-1726999200-1727013600@endofwatchride.com
SUMMARY:El Katif Shriners First Responders Club Presents the We Will Never Forget 9/11 Tribute
DESCRIPTION:Join us on September 22\, 2024 from 10am – 2pm\, to recognize the heroic men and women who take immediate action when disaster strikes. The 2022/2023 EOW Memorial will be present\, along with Local\, State and Federal Agencies. There will be a wreath laying\, awards presentation\, displays\, and special guest appearance.
URL:https://endofwatchride.com/event/el-katif-shriners-first-responders-club-presents-the-we-will-never-forget-9-11-tribute/
LOCATION:7217 W Westbow Blvd\, Spokane\, WA 99224\, 7217 W Westblow Blvd\, Spokane\, WA\, 99224\, United States
ATTACH;FMTTYPE=image/jpeg:https://endofwatchride.com/wp-content/uploads/2024/09/Shriner-Event.jpg
END:VEVENT
BEGIN:VEVENT
DTSTART;TZID=America/Los_Angeles:20241004T180000
DTEND;TZID=America/Los_Angeles:20241004T210000
DTSTAMP:20260421T160345
CREATED:20240909T193906Z
LAST-MODIFIED:20240909T193906Z
UID:4495-1728064800-1728075600@endofwatchride.com
SUMMARY:Survivor Weekend & Police Officer's Ball
DESCRIPTION:We’ll be hosting some of our survivors and their families for our Survivor Weekend\, which includes attending the Police Officer’s Ball. \nThe Police Officer’s Ball is an event hosted by the Spokane Police Chaplaincy with the intent to recognize and appreciate our law enforcement officers within the city of Spokane. The Ball is held at the Historic Davenport Hotel due to its notable and celebrated history in Spokane. This event serves as the Chaplaincy’s focus fundraiser for 2024. \nWe’ll be gathering at the beautiful Historic Davenport Hotel on Friday\, October 4th from 6-9pm and we’d love for you to join us! \nTickets can be purchased at the link below. Hope to see you there! \n 
URL:https://endofwatchride.com/event/survivor-weekend-police-officers-ball/
LOCATION:Historic Davenport Hotel\, 10 S Post Ave\, Spokane\, WA\, 99201\, United States
ATTACH;FMTTYPE=image/png:https://endofwatchride.com/wp-content/uploads/2024/09/Policemans-Ball.png
ORGANIZER;CN="Spokane Police Chaplaincy":MAILTO:SPDChaplain@spokanecity.org
END:VEVENT
BEGIN:VEVENT
DTSTART;VALUE=DATE:20250314
DTEND;VALUE=DATE:20250317
DTSTAMP:20260421T160345
CREATED:20250312T194824Z
LAST-MODIFIED:20250312T194824Z
UID:4889-1741910400-1742169599@endofwatchride.com
SUMMARY:Spokane Motorcycle Show
DESCRIPTION:Join us at the 20th Annual Spokane Motorcycle Show and Sale is March 14-16\, 2025 at the Spokane County Fair & Expo Center.  There will be a stunt show\, indoor swap meet\, indoor poker run\, beard competition and more! Free Parking. \n3/14/25 – 3pm – 8pm \n3/15/25 – 10am – 7pm \n3/16/25 – 10am – 4pm \nThe EOW Memorial will be there\, and we’d love to see you! \nVisit their website for more information. \nPurchase advance tickets online HERE
URL:https://endofwatchride.com/event/spokane-motorcycle-show/
LOCATION:Spokane County Fair & Expo Center\, 404 N Havana Street\, Spokane Valley\, WA\, 99202\, United States
ATTACH;FMTTYPE=image/png:https://endofwatchride.com/wp-content/uploads/2025/03/motologoWEB_wWHTout.png
END:VEVENT
BEGIN:VEVENT
DTSTART;TZID=UTC:20250329T100000
DTEND;TZID=UTC:20250329T150000
DTSTAMP:20260421T160345
CREATED:20250318T182111Z
LAST-MODIFIED:20250318T182133Z
UID:4911-1743242400-1743260400@endofwatchride.com
SUMMARY:Las Vegas IPOF Classic Car & Emergency Vehicle Show
DESCRIPTION:Join us as we honor the lives of the fallen officers of Southern Nevada at the Injured Police Officers’ Fund Car Show. The End of Watch Ride Memorial will be there displaying all of the country’s fallen officers from 2023 and 2024. We would love to see you! \nFREE to attend! $40 early registration / $50 day of to register a vehicle. \nCar show is open to all vehicles. Cars\, trucks & Special Interest Vehicles including: \n\n\nVintage\, Originals\, Classics\, Hot Rods\, Muscle Cars\,\nStreet Rods\, Competition Vehicles\, Custom Vehicles\n\nWith Special EMERGENCY VEHICLE DISPLAY AND CODE THREE PARADE!! \nSaturday\, March 29\, 2025 @ Veterans’ Memorial Park \nShow hours: 10AM to 3PM\nEntry arrival at 8AM\nAwards at 2:30PM\nINFO: moc.liamg@wohSraCFOPI
URL:https://endofwatchride.com/event/las-vegas-ipof-classic-car-emergency-vehicle-show/
LOCATION:Veterans’ Memorial Park\, 1650 Buchanan Blvd.\, Boulder City\, NV\, 89005\, United States
ATTACH;FMTTYPE=image/png:https://endofwatchride.com/wp-content/uploads/2025/03/LV-IPOF-Event.png
ORGANIZER;CN="Las Vegas Injured Police Officers' Fund":MAILTO:moc.liamg@wohSraCFOPI
END:VEVENT
BEGIN:VEVENT
DTSTART;TZID=UTC:20250405T080000
DTEND;TZID=UTC:20250405T170000
DTSTAMP:20260421T160345
CREATED:20250226T212824Z
LAST-MODIFIED:20250318T175739Z
UID:4853-1743840000-1743872400@endofwatchride.com
SUMMARY:Lone Wolf Harley-Davidson Vendor Fair
DESCRIPTION:The EOW Ride Memorial trailer will be at Lone Wolf Harley-Davidson on Saturday\, April 5th for their Vendor Fair. \nLone Wolf Harley-Davidson will be hosting a fun filled vendor fair. Support your favorite companies with us! Also\, come watch 1 Wheel Revolution perform their ALL HARLEY-DAVIDSON stunt show! Come and check out all of the vendors and spend time with us honoring our country’s fallen officers! \nYOU DON’T WANT TO MISS THIS ONE!
URL:https://endofwatchride.com/event/lone-wolf-harley-davidson-vendor-fair/
LOCATION:Lone Wolf Harley-Davidson\, 19011 E Cataldo Ave\, Spokane Valley\, WA\, 99016\, United States
ATTACH;FMTTYPE=image/jpeg:https://endofwatchride.com/wp-content/uploads/2023/06/Lone-Wolf-Copy.jpg
END:VEVENT
BEGIN:VEVENT
DTSTART;TZID=UTC:20250412T150000
DTEND;TZID=UTC:20250412T210000
DTSTAMP:20260421T160345
CREATED:20250226T213722Z
LAST-MODIFIED:20250226T213722Z
UID:4855-1744470000-1744491600@endofwatchride.com
SUMMARY:Washington State Patrol Memorial Foundation Dinner
DESCRIPTION:The EOW Memorial trailer will be on location at the Washington State Memorial Foundation dinner on Saturday\, April 12th at the Northern Quest Casino in Airway Heights\, WA. \nThey will be honoring all of the 33 Washington state officers who have died in the line of duty. \nUnfortunately\, the dinner itself is sold out\, but we’d love to see you at the Memorial trailer! \nStay Tuned for exact timing of the Memorial’s arrival.
URL:https://endofwatchride.com/event/washington-state-patrol-memorial-foundation-dinner/
LOCATION:Northern Quest Resort & Casino\, 100 N Hayford Rd\, Airway Heights\, WA\, United States
ATTACH;FMTTYPE=image/jpeg:https://endofwatchride.com/wp-content/uploads/2025/02/Dinner-Header.jpg
END:VEVENT
BEGIN:VEVENT
DTSTART;TZID=UTC:20250423T113000
DTEND;TZID=UTC:20250423T133000
DTSTAMP:20260421T160345
CREATED:20250226T214520Z
LAST-MODIFIED:20250226T214520Z
UID:4859-1745407800-1745415000@endofwatchride.com
SUMMARY:Society of Former Special Agents of the FBI Event
DESCRIPTION:The EOW Memorial trailer will be joining the Society of Former Special Agents of the FBI event on April 23rd at the Diamond Knot Brewpub in Mountlake Terrace. \nTake advantage of this opportunity to spend time with the us and the Memorial as we honor the country’s fallen.
URL:https://endofwatchride.com/event/society-of-former-special-agents-of-the-fbi-event/
LOCATION:Diamond Knot Brewpub\, 5602 232nd Street SW #106\, Mountlake Terrace\, WA\, United States
ATTACH;FMTTYPE=image/jpeg:https://endofwatchride.com/wp-content/uploads/2023/05/20230426_122638-scaled.jpg
END:VEVENT
BEGIN:VEVENT
DTSTART;TZID=UTC:20250505T200000
DTEND;TZID=UTC:20250506T113000
DTSTAMP:20260421T160345
CREATED:20250313T004643Z
LAST-MODIFIED:20250313T004643Z
UID:4901-1746475200-1746531000@endofwatchride.com
SUMMARY:Washington Law Enforcement Memorial
DESCRIPTION:Join us for the Washington Law Enforcement Memorial\, as we honor Washington’s fallen officers. \nThere will be a candlelight ceremony Monday night\, May 5th at 8pm\, and a Ceremony Tuesday morning at 11:30am. \nMore details to follow!
URL:https://endofwatchride.com/event/washington-law-enforcement-memorial/
LOCATION:Spokane County Public Safety Building
END:VEVENT
BEGIN:VEVENT
DTSTART;TZID=UTC:20250513T110000
DTEND;TZID=UTC:20250515T170000
DTSTAMP:20260421T160345
CREATED:20250430T210333Z
LAST-MODIFIED:20250430T210333Z
UID:4963-1747134000-1747328400@endofwatchride.com
SUMMARY:National Police Week - Washington\, DC
DESCRIPTION:The 2023 Rolling Memorial will be at Police Week in Washington\, DC\nTuesday\, May 13 – Thursday\, May 15\, 2025\n\n\n\n\n\n\n\n\n\n\n\nJoin us at Police Week Tent City\n\n\nWhen: May 13-14th; doors open 11am \nWhere: 71 Potomac Ave SE Washington DC 20003 \nThis location is about 15 minutes from the National Law Enforcement Officers Memorial. It is by the water\, close to public transportation and easy for pickup/drop with ride shares. There are also plenty of hotels in the area for nearby accommodations.
URL:https://endofwatchride.com/event/national-police-week-washington-dc/
LOCATION:Tent City\, 71 Potomac Ave SE\, Washington\, DC\, 20003
ATTACH;FMTTYPE=image/avif:https://endofwatchride.com/wp-content/uploads/2025/04/FOP-Badge-of-Honor.avif
END:VEVENT
BEGIN:VEVENT
DTSTART;TZID=UTC:20250518T100000
DTEND;TZID=UTC:20250518T150000
DTSTAMP:20260421T160345
CREATED:20250226T215714Z
LAST-MODIFIED:20250226T215714Z
UID:4862-1747562400-1747580400@endofwatchride.com
SUMMARY:2nd Annual Charity GOLF TOURNAMENT!
DESCRIPTION:We had so much fun last year\, we’ve decided to make this an annual event! \nCome join us for a day of fun and friendly competition on the greens as we raise funds and awareness for the End of Watch Ride. Raffles\, door prizes and more! \nRegister to play or sponsor a player HERE. \nSponsorships are also available. Send us an email at: info@endofwatchride.org to learn more! \nTee time is at 10am – we’ll see you there!
URL:https://endofwatchride.com/event/2nd-annual-charity-golf-tournament/
LOCATION:Downriver Golf Course\, 3225 N Columbia Circle\, Spokane\, WA\, 99205\, United States
ATTACH;FMTTYPE=image/png:https://endofwatchride.com/wp-content/uploads/2025/02/Golf-Flyer-1.png
END:VEVENT
BEGIN:VEVENT
DTSTART;TZID=UTC:20250524T083000
DTEND;TZID=UTC:20250524T100000
DTSTAMP:20260421T160345
CREATED:20250226T221110Z
LAST-MODIFIED:20250226T221110Z
UID:4865-1748075400-1748080800@endofwatchride.com
SUMMARY:Race to Remember 5k
DESCRIPTION:We will be running (or walking) to remember our fallen… and raise money for Beyond the Call of Duty and the End of Watch Ride. \nJoin us Memorial Day weekend for this not-to-miss event as you wind your way through 1500+ full-size American flags at Fairmount Memorial Park. \nYou can register any time\, up to and including the morning of the race (between 7:30-8:30a) and it’s just $25 to register. A great way to celebrate the true spirit of Memorial Day weekend For more information and to register\, visit the race website linked below. \nIf you’re too far away to join us\, consider being a part of the race by donating. Proceeds from the race benefit Beyond the Call of Duty. \n 
URL:https://endofwatchride.com/event/race-to-remember-5k/
LOCATION:Fairmount Memorial Park\, 5200 W Wellesley\, Spokane\, WA\, 99205
ATTACH;FMTTYPE=image/png:https://endofwatchride.com/wp-content/uploads/2025/02/raceBanner-umqlSx1I-bL5Hqj.png
ORGANIZER;CN="Fairmount Memorial Association":MAILTO:information@fairmountmemorial.com
END:VEVENT
BEGIN:VEVENT
DTSTART;TZID=UTC:20250621T170000
DTEND;TZID=UTC:20250621T210000
DTSTAMP:20260421T160345
CREATED:20250618T235607Z
LAST-MODIFIED:20250618T235607Z
UID:5150-1750525200-1750539600@endofwatchride.com
SUMMARY:National Public Safety Football League - National Championship Week
DESCRIPTION:The End of Watch Ride Memorial will be at the National Public Safety Football League National Championship game between the Chicago Police Enforcers and NYPD Football THIS Saturday\, June 21st. \nThe game starts at 6pm EST. \nIf you’re going to be in town for the game or are nearby\, come and say hi!
URL:https://endofwatchride.com/event/national-public-safety-football-league-national-championship-week/
LOCATION:Mitchell Field\, 1 Charles Lindbergh Blvd\, Uniondale\, NY\, 11553\, United States
ATTACH;FMTTYPE=image/jpeg:https://endofwatchride.com/wp-content/uploads/2025/06/Screenshot_20250618_170321_Facebook.jpg
END:VEVENT
BEGIN:VEVENT
DTSTART;TZID=UTC:20250726T100000
DTEND;TZID=UTC:20250726T170000
DTSTAMP:20260421T160345
CREATED:20250726T045356Z
LAST-MODIFIED:20250726T045356Z
UID:5222-1753524000-1753549200@endofwatchride.com
SUMMARY:EOW Pop Up! Georgia Racing Hall of Fame
DESCRIPTION:The 2024 Rolling Memorial will be at the Georgia Racing Hall TOMORROW\, July 26th from 10am – 5pm EST. \nJoin us!
URL:https://endofwatchride.com/event/eow-pop-up-georgia-racing-hall-of-fame/
LOCATION:Georgia Racing Hall\, 415 Hwy 53 East\, Dawsonville\, GA\, 30534
ATTACH;FMTTYPE=image/jpeg:https://endofwatchride.com/wp-content/uploads/2025/07/A6930B50-1E5B-4D11-924E-22E23227BF81.jpeg
END:VEVENT
BEGIN:VEVENT
DTSTART;TZID=UTC:20250804T080000
DTEND;TZID=UTC:20250806T170000
DTSTAMP:20260421T160345
CREATED:20250723T193131Z
LAST-MODIFIED:20250723T193131Z
UID:5213-1754294400-1754499600@endofwatchride.com
SUMMARY:FOP Miami National Conference 2025
DESCRIPTION:Join Us and the 2024 Memorial at the 67th National FOP Conference and Exposition in Miami Beach! \n\nFrom August 4-6\, 2025\, the 2024 Memorial will be at the Miami Beach Convention Center for the 67th National Fraternal Order of Police (FOP) Conference and Exposition. \nThis premier gathering will bring together a diverse array of law enforcement professionals from across the nation\, including police chiefs\, administrators\, sheriffs\, training officers\, fleet managers\, federal officers\, corrections officers\, and procurement specialists. \nHope to see you there!
URL:https://endofwatchride.com/event/fop-miami-national-conference-2025/
LOCATION:Miami Beach Convention Center\, 1901 Convention Center Drive\, Miami Beach\, 33139\, United States
ATTACH;FMTTYPE=image/png:https://endofwatchride.com/wp-content/uploads/2025/07/FOP-Miami-2025.png
END:VEVENT
BEGIN:VEVENT
DTSTART;TZID=UTC:20250823T160000
DTEND;TZID=UTC:20250823T190000
DTSTAMP:20260421T160345
CREATED:20250807T191825Z
LAST-MODIFIED:20250807T191825Z
UID:5275-1755964800-1755975600@endofwatchride.com
SUMMARY:Spokane Valley Cops & Kids Car Show
DESCRIPTION:The Beyond the Call of Duty Memorial will be at Balfour Park Saturday\, August 23rd from 4-7pm for this FREE community event. \nThere will be a car show\, food and fun for kids and adults\, and a Back-to-School drive for school supplies and backpacks. Visit their event page to learn more: https://www.spokanevalleywa.gov/745/Cops-Kids-Car-Show \nWe look forward to seeing you there!
URL:https://endofwatchride.com/event/spokane-valley-cops-kids-car-show/
LOCATION:Balfour Park\, 105 N Balfour Road\, Spokane Valley\, WA\, 99016\, United States
ATTACH;FMTTYPE=image/png:https://endofwatchride.com/wp-content/uploads/2025/08/Cops-and-Kids.png
END:VEVENT
BEGIN:VEVENT
DTSTART;TZID=UTC:20250823T170000
DTEND;TZID=UTC:20250823T200000
DTSTAMP:20260421T160345
CREATED:20250822T225749Z
LAST-MODIFIED:20250822T225749Z
UID:5309-1755968400-1755979200@endofwatchride.com
SUMMARY:POP-UP EVENT: Food Truck Fest & Car Show
DESCRIPTION:The Beyond the Call of Duty Memorial will be in Georgia at the Food Truck Fest & Car Show TOMORROW\, August 23rd from 5-8pm. \nIf you’re in the Carnesville\, GA area\, come say hi! There will be lots of food and great cars\, and an opportunity to visit the Memorial and honor our fallen. \n919 Hull Avenue \nCarnesville\, GA \nHope to see you there!
URL:https://endofwatchride.com/event/pop-up-event-food-truck-fest-car-show/
LOCATION:WA
ATTACH;FMTTYPE=image/png:https://endofwatchride.com/wp-content/uploads/2025/08/Pop-Up-Event-8-23.png
END:VEVENT
BEGIN:VEVENT
DTSTART;TZID=UTC:20250920T110000
DTEND;TZID=UTC:20250920T180000
DTSTAMP:20260421T160345
CREATED:20250729T015858Z
LAST-MODIFIED:20250729T015858Z
UID:5245-1758366000-1758391200@endofwatchride.com
SUMMARY:5th Annual Raffle Fundraiser
DESCRIPTION:Join us in raising money for the families and departments of our fallen officers and help us keep our cross-country ride alive! \nEvent Hours: 11am-6pm \n\nLIVE Raffle Announcement @ 5pm\nBurgers\, Hot Dogs & Drinks\nLocal Vendor Fair\nGames & Live Band (fit for family fun)\nCar & Bike Show\nSilent Auction & more!\n\nCar & Bike Show Entry Fee: $10 \nTo register for the Vendor Fair or Car & Bike Show\, send us an email to: info@eowride.org \nDONATIONS NEEDED: We need donations for our Silent Auction.  If you’d like to donate\, please reach out to us: info@eowride.org. Donation Ideas: \n\nExperience or Service Giveaway\nMerch Basket\nBig Ticket Items (trips\, golf clubs\, etc.)\nGift Cards\nGoodie Basket
URL:https://endofwatchride.com/event/5th-annual-raffle-fundraiser/
LOCATION:Lone Wolf Harley-Davidson\, 19011 E Cataldo Ave\, Spokane Valley\, WA\, 99016\, United States
ATTACH;FMTTYPE=image/png:https://endofwatchride.com/wp-content/uploads/2025/07/SM-Event-1.png
END:VEVENT
BEGIN:VEVENT
DTSTART;TZID=UTC:20260403T110000
DTEND;TZID=UTC:20260919T180000
DTSTAMP:20260421T160345
CREATED:20260403T215307Z
LAST-MODIFIED:20260403T215307Z
UID:5548-1775214000-1789840800@endofwatchride.com
SUMMARY:2026 Raffle Live Drawing Event
DESCRIPTION:Our 2026 Raffle is in full swing and tickets are selling fast! \nOur Live Drawing Event will be Saturday\, September 19\, 2026 with music\, food and fun for the whole family\, and of course\, the main attraction: the drawing for a beautiful Anniversary Edition Harley Davidson 2003 Dyna Wide-Glide motorcycle used\, in great condition\, with just 17\,778~ miles on it. \nThere will be something for everyone\, so even if you don’t buy raffle tickets\, you’re still guaranteed to have a great time! \n \nIf you want to purchase tickets\, reach out to: info@eowride.com.
URL:https://endofwatchride.com/event/2026-raffle-live-drawing-event/
LOCATION:Lone Wolf Harley-Davidson\, 19011 E Cataldo Ave\, Spokane Valley\, WA\, 99016\, United States
END:VEVENT
BEGIN:VEVENT
DTSTART;TZID=UTC:20260504T190000
DTEND;TZID=UTC:20260504T203000
DTSTAMP:20260421T160345
CREATED:20260403T205618Z
LAST-MODIFIED:20260403T205618Z
UID:5535-1777921200-1777926600@endofwatchride.com
SUMMARY:Spokane Memorial - Candlelight Vigil
DESCRIPTION:Please join us for a candlelight vigil\, Monday\, May 4\, 2026 at 7pm at the Law Enforcement Memorial\, Spokane County Courthouse. \nWe will be there with the End of Watch Memorial and look forward to seeing you there.
URL:https://endofwatchride.com/event/spokane-memorial-candlelight-vigil/
LOCATION:1100 W. Mallon\, Spokane\, Wash.\, 1100 W Mallon\, Spokane\, WA\, United States
END:VEVENT
BEGIN:VEVENT
DTSTART;TZID=UTC:20260505T073000
DTEND;TZID=UTC:20260505T090000
DTSTAMP:20260421T160345
CREATED:20260403T212140Z
LAST-MODIFIED:20260403T212140Z
UID:5537-1777966200-1777971600@endofwatchride.com
SUMMARY:Spokane Memorial Wall Unveiling
DESCRIPTION:We and the EOW Memorial will be in attendance for this special event.  Please join us!
URL:https://endofwatchride.com/event/spokane-memorial-wall-unveiling/
LOCATION:1100 W. Mallon\, Spokane\, Wash.\, 1100 W Mallon\, Spokane\, WA\, United States
ATTACH;FMTTYPE=image/jpeg:https://endofwatchride.com/wp-content/uploads/2026/04/FBI-Luncheon.jpg
END:VEVENT
BEGIN:VEVENT
DTSTART;TZID=UTC:20260510T080000
DTEND;TZID=UTC:20260516T170000
DTSTAMP:20260421T160345
CREATED:20260403T213908Z
LAST-MODIFIED:20260403T213908Z
UID:5540-1778400000-1778950800@endofwatchride.com
SUMMARY:National Police Week
DESCRIPTION:The 2024-2025 End of Watch rolling memorial will be at National Police Week in Washington\, DC.  We invite you to come and visit the memorial\, share stories and remember your fallen. \nMay 13th-15th we will be at Tent City – final location TBD\, and we’ll be in attendance at other events as well. \nWe hope to see you there! \nPolice Week Flyer
URL:https://endofwatchride.com/event/national-police-week/
LOCATION:WA
ATTACH;FMTTYPE=image/avif:https://endofwatchride.com/wp-content/uploads/2026/04/PoliceWeek.avif
END:VEVENT
BEGIN:VEVENT
DTSTART;TZID=UTC:20260814T120000
DTEND;TZID=UTC:20260814T180000
DTSTAMP:20260421T160345
CREATED:20260403T214445Z
LAST-MODIFIED:20260409T175920Z
UID:5545-1786708800-1786730400@endofwatchride.com
SUMMARY:3rd Annual Charity Golf Tournament
DESCRIPTION:Get excited! The most fun golf tournament is back for its’ third year!  This year\, we’ll be golfing on Friday\, August 14th in the afternoon (exact time TBD) at Downriver Golf Course.  It’s a great reason to leave work early and enjoy the outdoors for a good cause!  We’ll also have a shotgun start this year\, and a new game or two\, just to keep it interesting! \nTo register\, or sponsor the tournament\, click HERE \nTo learn more about our sponsorship levels\, or donating swag bag or silent auction items\, click HERE
URL:https://endofwatchride.com/event/save-the-date-annual-charity-golf-tournament/
LOCATION:Downriver Golf Course\, 3225 N Columbia Circle\, Spokane\, WA\, 99205\, United States
END:VEVENT
END:VCALENDAR