BEGIN:VCALENDAR
VERSION:2.0
PRODID:-//Beyond the Call of Duty - EOW Ride - ECPv6.15.20//NONSGML v1.0//EN
CALSCALE:GREGORIAN
METHOD:PUBLISH
X-WR-CALNAME:Beyond the Call of Duty - EOW Ride
X-ORIGINAL-URL:https://endofwatchride.com
X-WR-CALDESC:Events for Beyond the Call of Duty - EOW Ride
REFRESH-INTERVAL;VALUE=DURATION:PT1H
X-Robots-Tag:noindex
X-PUBLISHED-TTL:PT1H
BEGIN:VTIMEZONE
TZID:UTC
BEGIN:STANDARD
TZOFFSETFROM:+0000
TZOFFSETTO:+0000
TZNAME:UTC
DTSTART:20240101T000000
END:STANDARD
END:VTIMEZONE
BEGIN:VEVENT
DTSTART;TZID=UTC:20250920T110000
DTEND;TZID=UTC:20250920T180000
DTSTAMP:20260424T000816
CREATED:20250729T015858Z
LAST-MODIFIED:20250729T015858Z
UID:5245-1758366000-1758391200@endofwatchride.com
SUMMARY:5th Annual Raffle Fundraiser
DESCRIPTION:Join us in raising money for the families and departments of our fallen officers and help us keep our cross-country ride alive! \nEvent Hours: 11am-6pm \n\nLIVE Raffle Announcement @ 5pm\nBurgers\, Hot Dogs & Drinks\nLocal Vendor Fair\nGames & Live Band (fit for family fun)\nCar & Bike Show\nSilent Auction & more!\n\nCar & Bike Show Entry Fee: $10 \nTo register for the Vendor Fair or Car & Bike Show\, send us an email to: info@eowride.org \nDONATIONS NEEDED: We need donations for our Silent Auction.  If you’d like to donate\, please reach out to us: info@eowride.org. Donation Ideas: \n\nExperience or Service Giveaway\nMerch Basket\nBig Ticket Items (trips\, golf clubs\, etc.)\nGift Cards\nGoodie Basket
URL:https://endofwatchride.com/event/5th-annual-raffle-fundraiser/
LOCATION:Lone Wolf Harley-Davidson\, 19011 E Cataldo Ave\, Spokane Valley\, WA\, 99016\, United States
ATTACH;FMTTYPE=image/png:https://endofwatchride.com/wp-content/uploads/2025/07/SM-Event-1.png
END:VEVENT
END:VCALENDAR